BEGIN:VCALENDAR
VERSION:2.0
PRODID:-//Mental Health Recovery Board - ECPv6.15.20//NONSGML v1.0//EN
CALSCALE:GREGORIAN
METHOD:PUBLISH
X-WR-CALNAME:Mental Health Recovery Board
X-ORIGINAL-URL:https://www.mhrb.org
X-WR-CALDESC:Events for Mental Health Recovery Board
REFRESH-INTERVAL;VALUE=DURATION:PT1H
X-Robots-Tag:noindex
X-PUBLISHED-TTL:PT1H
BEGIN:VTIMEZONE
TZID:America/Detroit
BEGIN:DAYLIGHT
TZOFFSETFROM:-0500
TZOFFSETTO:-0400
TZNAME:EDT
DTSTART:20240310T070000
END:DAYLIGHT
BEGIN:STANDARD
TZOFFSETFROM:-0400
TZOFFSETTO:-0500
TZNAME:EST
DTSTART:20241103T060000
END:STANDARD
BEGIN:DAYLIGHT
TZOFFSETFROM:-0500
TZOFFSETTO:-0400
TZNAME:EDT
DTSTART:20250309T070000
END:DAYLIGHT
BEGIN:STANDARD
TZOFFSETFROM:-0400
TZOFFSETTO:-0500
TZNAME:EST
DTSTART:20251102T060000
END:STANDARD
BEGIN:DAYLIGHT
TZOFFSETFROM:-0500
TZOFFSETTO:-0400
TZNAME:EDT
DTSTART:20260308T070000
END:DAYLIGHT
BEGIN:STANDARD
TZOFFSETFROM:-0400
TZOFFSETTO:-0500
TZNAME:EST
DTSTART:20261101T060000
END:STANDARD
END:VTIMEZONE
BEGIN:VEVENT
DTSTART;TZID=America/Detroit:20250814T120000
DTEND;TZID=America/Detroit:20250814T130000
DTSTAMP:20260424T010909
CREATED:20250729T195409Z
LAST-MODIFIED:20250729T195409Z
UID:100386-1755172800-1755176400@www.mhrb.org
SUMMARY:Free Parent Lunch
DESCRIPTION:????️ Free Parent Lunch in Madison County!\nJoin us for food\, resources\, and support for families with kids ages 0–12! \n???? July 31 & August 14 | ???? 12–1 PM\n???? Daines Village\, 1143 Daines Ct\, London\, OH \n???? Free materials for attendees who register!\n????‍????‍???? Parents\, grandparents & caregivers welcome.\n???? Call/text 614-324-5768 or email TripleP@actionforchildren.org \nHosted by Action for Children. ¡Hablamos español! \n 
URL:https://www.mhrb.org/event/free-parent-lunch-2/
LOCATION:OH
END:VEVENT
BEGIN:VEVENT
DTSTART;TZID=America/Detroit:20250814T163000
DTEND;TZID=America/Detroit:20250814T173000
DTSTAMP:20260424T010909
CREATED:20250812T190453Z
LAST-MODIFIED:20250812T190453Z
UID:100812-1755189000-1755192600@www.mhrb.org
SUMMARY:Special Officers' Meeting
DESCRIPTION:There will be a Special Officers’ Meeting of the Mental Health Recovery Board of Clark\, Greene\, and Madison Counties this Thursday\, August 14th\, at 4:30PM located at the MHRB offices: 1055 E High St. Springfield\, OH. \nAll are welcome to attend.
URL:https://www.mhrb.org/event/special-officers-meeting/
LOCATION:MHRB Offices\, 1055 E High St\, Springfield\, Ohio\, 45505\, United States
END:VEVENT
END:VCALENDAR