BEGIN:VCALENDAR
VERSION:2.0
PRODID:-//Mental Health Recovery Board - ECPv6.15.20//NONSGML v1.0//EN
CALSCALE:GREGORIAN
METHOD:PUBLISH
X-WR-CALNAME:Mental Health Recovery Board
X-ORIGINAL-URL:https://www.mhrb.org
X-WR-CALDESC:Events for Mental Health Recovery Board
REFRESH-INTERVAL;VALUE=DURATION:PT1H
X-Robots-Tag:noindex
X-PUBLISHED-TTL:PT1H
BEGIN:VTIMEZONE
TZID:America/Detroit
BEGIN:DAYLIGHT
TZOFFSETFROM:-0500
TZOFFSETTO:-0400
TZNAME:EDT
DTSTART:20240310T070000
END:DAYLIGHT
BEGIN:STANDARD
TZOFFSETFROM:-0400
TZOFFSETTO:-0500
TZNAME:EST
DTSTART:20241103T060000
END:STANDARD
BEGIN:DAYLIGHT
TZOFFSETFROM:-0500
TZOFFSETTO:-0400
TZNAME:EDT
DTSTART:20250309T070000
END:DAYLIGHT
BEGIN:STANDARD
TZOFFSETFROM:-0400
TZOFFSETTO:-0500
TZNAME:EST
DTSTART:20251102T060000
END:STANDARD
BEGIN:DAYLIGHT
TZOFFSETFROM:-0500
TZOFFSETTO:-0400
TZNAME:EDT
DTSTART:20260308T070000
END:DAYLIGHT
BEGIN:STANDARD
TZOFFSETFROM:-0400
TZOFFSETTO:-0500
TZNAME:EST
DTSTART:20261101T060000
END:STANDARD
END:VTIMEZONE
BEGIN:VEVENT
DTSTART;TZID=America/Detroit:20251009T083000
DTEND;TZID=America/Detroit:20251009T130000
DTSTAMP:20260423T234135
CREATED:20250812T193616Z
LAST-MODIFIED:20250812T193616Z
UID:100818-1759998600-1760014800@www.mhrb.org
SUMMARY:Firearms Safety 101 for Mental Health Providers
DESCRIPTION:🔒 Firearms Safety Workshop for Mental Health Providers \nEnhance clinical knowledge and practical skills in firearm safety at this hands-on workshop organized by the Service Members\, Veterans\, and their Families (SMVF) sub-committee of the Greene County Suicide Prevention Coalition. \n📅 Date: October 9\, 2025 \n🕣 Time: 8:30 AM – 1:00 PM \n📍 Location: 3245 Seajay Dr\, Beavercreek\, OH 45430 \nTopics include safe handling\, storage practices\, and clinical intervention strategies. CEUs available through CSWMFT & OCDP. \n🍽️ Breakfast\, snacks\, and refreshments provided \n📲 Scan the QR code to register.
URL:https://www.mhrb.org/event/firearms-safety-101-for-mental-health-providers/
LOCATION:OH
END:VEVENT
END:VCALENDAR