BEGIN:VCALENDAR
VERSION:2.0
PRODID:-//Mental Health Recovery Board - ECPv6.15.20//NONSGML v1.0//EN
CALSCALE:GREGORIAN
METHOD:PUBLISH
X-WR-CALNAME:Mental Health Recovery Board
X-ORIGINAL-URL:https://www.mhrb.org
X-WR-CALDESC:Events for Mental Health Recovery Board
REFRESH-INTERVAL;VALUE=DURATION:PT1H
X-Robots-Tag:noindex
X-PUBLISHED-TTL:PT1H
BEGIN:VTIMEZONE
TZID:America/Detroit
BEGIN:DAYLIGHT
TZOFFSETFROM:-0500
TZOFFSETTO:-0400
TZNAME:EDT
DTSTART:20240310T070000
END:DAYLIGHT
BEGIN:STANDARD
TZOFFSETFROM:-0400
TZOFFSETTO:-0500
TZNAME:EST
DTSTART:20241103T060000
END:STANDARD
BEGIN:DAYLIGHT
TZOFFSETFROM:-0500
TZOFFSETTO:-0400
TZNAME:EDT
DTSTART:20250309T070000
END:DAYLIGHT
BEGIN:STANDARD
TZOFFSETFROM:-0400
TZOFFSETTO:-0500
TZNAME:EST
DTSTART:20251102T060000
END:STANDARD
BEGIN:DAYLIGHT
TZOFFSETFROM:-0500
TZOFFSETTO:-0400
TZNAME:EDT
DTSTART:20260308T070000
END:DAYLIGHT
BEGIN:STANDARD
TZOFFSETFROM:-0400
TZOFFSETTO:-0500
TZNAME:EST
DTSTART:20261101T060000
END:STANDARD
END:VTIMEZONE
BEGIN:VEVENT
DTSTART;TZID=America/Detroit:20251016T080000
DTEND;TZID=America/Detroit:20251016T160000
DTSTAMP:20260423T192839
CREATED:20251002T173405Z
LAST-MODIFIED:20251002T173405Z
UID:102178-1760601600-1760630400@www.mhrb.org
SUMMARY:Lethal Means Safety & Treatment Access Conference
DESCRIPTION:🔒 Lethal Means Safety & Treatment Access Conference\n🗓️ Date: Thursday\, October 16\n🕗 Time: 8:00 AM – 4:00 PM\n📍 Location: Mercy Health Graduate Building\, 751 W. Market Street\, Lima\n💵 Cost: Free | 🎓 CEUs available | 🐶 Therapy dogs on-site \nJoin clinicians\, first responders\, veterans\, firearm safety experts\, and advocates for a full day of learning and collaboration. Topics include: \n\nBarriers to care for veterans and rural communities\nCALM Conversations for respectful dialogue\nFirearm safety practices to reduce suicide risk\nCommunity resources for mental health support\n\n🎤 Featured speakers include a VA & Military Culture Specialist and a First Responder Mental Health Advocate.
URL:https://www.mhrb.org/event/lethal-means-safety-treatment-access-conference/
LOCATION:OH
END:VEVENT
BEGIN:VEVENT
DTSTART;TZID=America/Detroit:20251016T100000
DTEND;TZID=America/Detroit:20251016T120000
DTSTAMP:20260423T192839
CREATED:20250821T184017Z
LAST-MODIFIED:20250821T184449Z
UID:101114-1760608800-1760616000@www.mhrb.org
SUMMARY:Buildings & Grounds Committee Meeting
DESCRIPTION:
URL:https://www.mhrb.org/event/buildings-grounds-committee-meeting/
LOCATION:MHRB Offices\, 1055 E High St\, Springfield\, Ohio\, 45505\, United States
END:VEVENT
END:VCALENDAR