BEGIN:VCALENDAR
VERSION:2.0
PRODID:-//Mental Health Recovery Board - ECPv6.15.20//NONSGML v1.0//EN
CALSCALE:GREGORIAN
METHOD:PUBLISH
X-WR-CALNAME:Mental Health Recovery Board
X-ORIGINAL-URL:https://www.mhrb.org
X-WR-CALDESC:Events for Mental Health Recovery Board
REFRESH-INTERVAL;VALUE=DURATION:PT1H
X-Robots-Tag:noindex
X-PUBLISHED-TTL:PT1H
BEGIN:VTIMEZONE
TZID:America/Detroit
BEGIN:DAYLIGHT
TZOFFSETFROM:-0500
TZOFFSETTO:-0400
TZNAME:EDT
DTSTART:20240310T070000
END:DAYLIGHT
BEGIN:STANDARD
TZOFFSETFROM:-0400
TZOFFSETTO:-0500
TZNAME:EST
DTSTART:20241103T060000
END:STANDARD
BEGIN:DAYLIGHT
TZOFFSETFROM:-0500
TZOFFSETTO:-0400
TZNAME:EDT
DTSTART:20250309T070000
END:DAYLIGHT
BEGIN:STANDARD
TZOFFSETFROM:-0400
TZOFFSETTO:-0500
TZNAME:EST
DTSTART:20251102T060000
END:STANDARD
BEGIN:DAYLIGHT
TZOFFSETFROM:-0500
TZOFFSETTO:-0400
TZNAME:EDT
DTSTART:20260308T070000
END:DAYLIGHT
BEGIN:STANDARD
TZOFFSETFROM:-0400
TZOFFSETTO:-0500
TZNAME:EST
DTSTART:20261101T060000
END:STANDARD
BEGIN:DAYLIGHT
TZOFFSETFROM:-0500
TZOFFSETTO:-0400
TZNAME:EDT
DTSTART:20270314T070000
END:DAYLIGHT
BEGIN:STANDARD
TZOFFSETFROM:-0400
TZOFFSETTO:-0500
TZNAME:EST
DTSTART:20271107T060000
END:STANDARD
END:VTIMEZONE
BEGIN:VEVENT
DTSTART;TZID=America/Detroit:20260425T103000
DTEND;TZID=America/Detroit:20260425T233000
DTSTAMP:20260422T183051
CREATED:20260415T144722Z
LAST-MODIFIED:20260415T144722Z
UID:105978-1777113000-1777159800@www.mhrb.org
SUMMARY:Positive Parenting Session (Woodbourne Library)
DESCRIPTION:🌱 April 2026 Positive Parenting Sessions 🌱\nLooking for simple\, practical ways to support young children’s emotional and mental well-being? April 2026 Positive Parenting sessions offer easy-to-use\, positive strategies shared by the Early Childhood Mental Health Team. Sessions are short\, flexible\, and available both in person and virtually.\n🗓 Session Options \nVirtual (Zoom):\n📅 April 16\, 2026\n⏰ 12:30 PM\n🔗 Access via QR code on the flyer \nIn Person:\n📍 Beavercreek Library\n📅 April 20\, 2026\n⏰ 12:00 PM\n📍 3618 Dayton Xenia Rd.\, Beavercreek\n📍 Woodbourne Library\n📅 April 25\, 2026\n⏰ 10:30 AM\n📍 6060 Far Hills Ave.\, Centerville \n✅ No registration required\n✅ 30-minute sessions\n✅ New topic each month\n✅ Attend virtually or in person\n📧 Questions? Contact ECMHteam@greenesc.org\n📱 Scan the QR code for the full schedule and Zoom link.
URL:https://www.mhrb.org/event/positive-parenting-session-woodbourne-library/
LOCATION:OH
END:VEVENT
BEGIN:VEVENT
DTSTART;TZID=America/Detroit:20260423T150000
DTEND;TZID=America/Detroit:20260423T170000
DTSTAMP:20260422T183051
CREATED:20260417T141522Z
LAST-MODIFIED:20260417T141522Z
UID:106075-1776956400-1776963600@www.mhrb.org
SUMMARY:Money Skills 101: Budgeting and Saving
DESCRIPTION:💰 Money Skills 101: Budgeting and Saving 💰\nLearn the basics of budgeting and saving in this free\, in‑person session designed to help participants build confidence and make informed financial decisions. This workshop will cover practical tips to manage money\, plan ahead\, and work toward a stronger financial future.\n📅 Thursday\, April 23\n⏰ 3:00–5:00 PM\n📍 The Hope Spot\n329 W. 2nd Street\nXenia\, OH 45385\n✅ Presented by Chase\n✅ Hosted by United Way Greater Dayton Area and Greene County Family & Children First\n✅ Guest presenter: CareSource Clothes That Work\nQuestions? Contact Rebecca Cantrell at rebecca@dayton-unitedway.org.
URL:https://www.mhrb.org/event/money-skills-101-budgeting-and-saving/
LOCATION:Hope Spot – Xenia\, 529 W 2nd St\, Xenia\, OH\, 45385\, United States
END:VEVENT
BEGIN:VEVENT
DTSTART;TZID=America/Detroit:20260422T100000
DTEND;TZID=America/Detroit:20260422T110000
DTSTAMP:20260422T183051
CREATED:20260415T145651Z
LAST-MODIFIED:20260415T145651Z
UID:105983-1776852000-1776855600@www.mhrb.org
SUMMARY:Human Trafficking Awareness Training
DESCRIPTION:📣 Human Trafficking Awareness Training\nA free training opportunity is available to learn more about human trafficking and how to recognize and respond to potential signs in the community. This session is led by Dear Dinah and is open to individuals interested in increasing awareness and understanding.\n🗓 Wednesday\, April 22\n⏰ 10:00–11:00 AM\n📍 360 Wilson Dr.\, Xenia\, OH 45385\n📝 Topics include: \nHuman trafficking awareness\nRisk factors and warning signs\nPrevention and response strategies \n✅ Free to attend\n📱 Scan the QR code on the flyer to sign up or to learn more about Dear Dinah.
URL:https://www.mhrb.org/event/human-trafficking-awareness-training/
LOCATION:OH
END:VEVENT
BEGIN:VEVENT
DTSTART;TZID=America/Detroit:20260421T180000
DTEND;TZID=America/Detroit:20260421T200000
DTSTAMP:20260422T183051
CREATED:20250821T190219Z
LAST-MODIFIED:20250821T191219Z
UID:101145-1776794400-1776801600@www.mhrb.org
SUMMARY:April Board Meeting
DESCRIPTION:
URL:https://www.mhrb.org/event/april-board-meeting/
LOCATION:Clark ESC\, 4170 Allium Ct\, Springfield\, OH\, 45505\, United States
END:VEVENT
BEGIN:VEVENT
DTSTART;TZID=America/Detroit:20260421T173000
DTEND;TZID=America/Detroit:20260421T180000
DTSTAMP:20260422T183051
CREATED:20250821T190125Z
LAST-MODIFIED:20250821T191304Z
UID:101143-1776792600-1776794400@www.mhrb.org
SUMMARY:Nominating Committee Meeting
DESCRIPTION:
URL:https://www.mhrb.org/event/nominating-committee-meeting/
LOCATION:Clark ESC\, 4170 Allium Ct\, Springfield\, OH\, 45505\, United States
END:VEVENT
BEGIN:VEVENT
DTSTART;TZID=America/Detroit:20260420T120000
DTEND;TZID=America/Detroit:20260420T130000
DTSTAMP:20260422T183051
CREATED:20260415T144631Z
LAST-MODIFIED:20260415T144631Z
UID:105976-1776686400-1776690000@www.mhrb.org
SUMMARY:Positive Parenting Session (Beavercreek Library)
DESCRIPTION:🌱 April 2026 Positive Parenting Sessions 🌱\nLooking for simple\, practical ways to support young children’s emotional and mental well-being? April 2026 Positive Parenting sessions offer easy-to-use\, positive strategies shared by the Early Childhood Mental Health Team. Sessions are short\, flexible\, and available both in person and virtually.\n🗓 Session Options \nVirtual (Zoom):\n📅 April 16\, 2026\n⏰ 12:30 PM\n🔗 Access via QR code on the flyer \nIn Person:\n📍 Beavercreek Library\n📅 April 20\, 2026\n⏰ 12:00 PM\n📍 3618 Dayton Xenia Rd.\, Beavercreek\n📍 Woodbourne Library\n📅 April 25\, 2026\n⏰ 10:30 AM\n📍 6060 Far Hills Ave.\, Centerville \n✅ No registration required\n✅ 30-minute sessions\n✅ New topic each month\n✅ Attend virtually or in person\n📧 Questions? Contact ECMHteam@greenesc.org\n📱 Scan the QR code for the full schedule and Zoom link.
URL:https://www.mhrb.org/event/positive-parenting-session-beavercreek-library/
LOCATION:OH
END:VEVENT
BEGIN:VEVENT
DTSTART;TZID=America/Detroit:20260418T140000
DTEND;TZID=America/Detroit:20260418T150000
DTSTAMP:20260422T183051
CREATED:20260415T145319Z
LAST-MODIFIED:20260415T145319Z
UID:105980-1776520800-1776524400@www.mhrb.org
SUMMARY:Fetal Alcohol Disorders Free Workshop
DESCRIPTION:🌈 Free Workshop: Learn About Fetal Alcohol Disorders 🌈\nProtect Their Future\nThis free workshop shares information about fetal alcohol disorders and offers practical strategies to support children who may have been exposed to alcohol during pregnancy.\n👶 Topics include: \nIdentifying possible symptoms\nUnderstanding behavior\, regulation\, and school challenges\nLearning strategies to help children be successful \n🗓 Saturday\, April 18\n⏰ 2:00–3:30 PM\n📍 HopeSpot\nin partnership with Greene County Educational Service Center\n🎉 Stick around after the workshop for Bingo!\n📞 (937) 352‑6367\n📧 info@hopespot.org\n✅ Free to attend
URL:https://www.mhrb.org/event/fetal-alcohol-disorders-free-workshop/
LOCATION:Hope Spot – Xenia\, 529 W 2nd St\, Xenia\, OH\, 45385\, United States
END:VEVENT
BEGIN:VEVENT
DTSTART;TZID=America/Detroit:20260416T123000
DTEND;TZID=America/Detroit:20260416T133000
DTSTAMP:20260422T183051
CREATED:20260415T144504Z
LAST-MODIFIED:20260415T144504Z
UID:105973-1776342600-1776346200@www.mhrb.org
SUMMARY:Positive Parenting Session (Zoom)
DESCRIPTION:🌱 April 2026 Positive Parenting Sessions 🌱\nLooking for simple\, practical ways to support young children’s emotional and mental well-being? April 2026 Positive Parenting sessions offer easy-to-use\, positive strategies shared by the Early Childhood Mental Health Team. Sessions are short\, flexible\, and available both in person and virtually.\n🗓 Session Options \nVirtual (Zoom):\n📅 April 16\, 2026\n⏰ 12:30 PM\n🔗 Access via QR code on the flyer \nIn Person:\n📍 Beavercreek Library\n📅 April 20\, 2026\n⏰ 12:00 PM\n📍 3618 Dayton Xenia Rd.\, Beavercreek\n📍 Woodbourne Library\n📅 April 25\, 2026\n⏰ 10:30 AM\n📍 6060 Far Hills Ave.\, Centerville \n✅ No registration required\n✅ 30-minute sessions\n✅ New topic each month\n✅ Attend virtually or in person\n📧 Questions? Contact ECMHteam@greenesc.org\n📱 Scan the QR code for the full schedule and Zoom link.
URL:https://www.mhrb.org/event/positive-parenting-session-zoom/
LOCATION:OH
END:VEVENT
BEGIN:VEVENT
DTSTART;TZID=America/Detroit:20260416T100000
DTEND;TZID=America/Detroit:20260416T120000
DTSTAMP:20260422T183051
CREATED:20250821T190031Z
LAST-MODIFIED:20250821T191615Z
UID:101141-1776333600-1776340800@www.mhrb.org
SUMMARY:Buildings & Grounds Committee
DESCRIPTION:
URL:https://www.mhrb.org/event/buildings-grounds-committee/
LOCATION:MHRB Offices\, 1055 E High St\, Springfield\, Ohio\, 45505\, United States
END:VEVENT
BEGIN:VEVENT
DTSTART;TZID=America/Detroit:20260409T140000
DTEND;TZID=America/Detroit:20260409T160000
DTSTAMP:20260422T183051
CREATED:20260330T184513Z
LAST-MODIFIED:20260330T184513Z
UID:105547-1775743200-1775750400@www.mhrb.org
SUMMARY:Finance/P&E Board Meeting
DESCRIPTION:
URL:https://www.mhrb.org/event/finance-pe-board-meeting/
LOCATION:MHRB Offices\, 1055 E High St\, Springfield\, Ohio\, 45505\, United States
END:VEVENT
BEGIN:VEVENT
DTSTART;TZID=America/Detroit:20260409T100000
DTEND;TZID=America/Detroit:20260409T110000
DTSTAMP:20260422T183051
CREATED:20260327T183755Z
LAST-MODIFIED:20260327T184623Z
UID:105508-1775728800-1775732400@www.mhrb.org
SUMMARY:Five Rivers Health Centers Xenia Ribbon Cutting
DESCRIPTION:🎉 Grand Opening & Ribbon Cutting 🎀\nFive Rivers Health Centers is celebrating the opening of the Xenia Campus with a ribbon cutting event. Community members are invited to attend and help mark this milestone.\n🗓 Thursday\, April 9\n⏰ 10:00 AM\n📍 34 S. Allison Ave\, Xenia\, OH 45385\nJoin local partners and community members for the official ribbon cutting and a first look at the new Xenia Campus.
URL:https://www.mhrb.org/event/five-rivers-health-centers-xenia-ribbon-cutting/
LOCATION:OH
END:VEVENT
BEGIN:VEVENT
DTSTART;TZID=America/Detroit:20260317T080000
DTEND;TZID=America/Detroit:20260317T170000
DTSTAMP:20260422T183051
CREATED:20250821T185928Z
LAST-MODIFIED:20250821T185928Z
UID:101139-1773734400-1773766800@www.mhrb.org
SUMMARY:March Board Meeting
DESCRIPTION:
URL:https://www.mhrb.org/event/march-board-meeting/
LOCATION:Clark ESC\, 4170 Allium Ct\, Springfield\, OH\, 45505\, United States
END:VEVENT
BEGIN:VEVENT
DTSTART;TZID=America/Detroit:20260304T080000
DTEND;TZID=America/Detroit:20260304T170000
DTSTAMP:20260422T183051
CREATED:20260304T155802Z
LAST-MODIFIED:20260304T155802Z
UID:104882-1772611200-1772643600@www.mhrb.org
SUMMARY:COPE Open House
DESCRIPTION:Join a welcoming open house to learn about a family support group for those who love someone affected by substance use.\n🗓 Wednesday\, March 4\n⏰ 7:00–8:00 PM\n📍 Hope Spot\, 529 W. Second St.\, Xenia\, OH 45385\nWhat to expect: \nLearn about a family support group and available support\nMeet facilitators with lived experience\nAsk questions in a safe\, respectful space\nTour the meeting space to see if it feels like a good fit\nExperience a casual\, friendly\, and non‑judgmental environment \n📞 More information: 530‑559‑9689\n📧 copefamilies.info@gmail.com\n🌐 facebook.com/copefamilies
URL:https://www.mhrb.org/event/cope-open-house/
LOCATION:OH
END:VEVENT
BEGIN:VEVENT
DTSTART;TZID=America/Detroit:20260303T100000
DTEND;TZID=America/Detroit:20260303T120000
DTSTAMP:20260422T183051
CREATED:20250821T185841Z
LAST-MODIFIED:20250821T185841Z
UID:101137-1772532000-1772539200@www.mhrb.org
SUMMARY:Records Commission Meeting
DESCRIPTION:
URL:https://www.mhrb.org/event/records-commission-meeting/
LOCATION:MHRB Offices\, 1055 E High St\, Springfield\, Ohio\, 45505\, United States
END:VEVENT
BEGIN:VEVENT
DTSTART;TZID=America/Detroit:20260217T180000
DTEND;TZID=America/Detroit:20260217T200000
DTSTAMP:20260422T183051
CREATED:20250821T185739Z
LAST-MODIFIED:20250821T185739Z
UID:101135-1771351200-1771358400@www.mhrb.org
SUMMARY:February Board Meeting
DESCRIPTION:
URL:https://www.mhrb.org/event/february-board-meeting/
LOCATION:Clark ESC\, 4170 Allium Ct\, Springfield\, OH\, 45505\, United States
END:VEVENT
BEGIN:VEVENT
DTSTART;TZID=America/Detroit:20260204T170000
DTEND;TZID=America/Detroit:20260204T200000
DTSTAMP:20260422T183051
CREATED:20250821T185632Z
LAST-MODIFIED:20251222T182909Z
UID:101133-1770224400-1770235200@www.mhrb.org
SUMMARY:Exceptional People Awards 2026
DESCRIPTION:Our annual award dinner to celebrate those exceptional behavioral health workers! If you have someone you want to nominate\, do so here before the end of January 18th!
URL:https://www.mhrb.org/event/exceptional-people-awards/
LOCATION:Courtyard by Mariott\, OH\, United States
END:VEVENT
BEGIN:VEVENT
DTSTART;TZID=America/Detroit:20260124T090000
DTEND;TZID=America/Detroit:20260124T120000
DTSTAMP:20260422T183051
CREATED:20250821T185519Z
LAST-MODIFIED:20251222T195142Z
UID:101131-1769245200-1769256000@www.mhrb.org
SUMMARY:Board Retreat (Full Governing Board)
DESCRIPTION:
URL:https://www.mhrb.org/event/board-retreat-full-governing-board/
LOCATION:OH
END:VEVENT
BEGIN:VEVENT
DTSTART;TZID=America/Detroit:20260122T100000
DTEND;TZID=America/Detroit:20260122T113000
DTSTAMP:20260422T183051
CREATED:20250821T185338Z
LAST-MODIFIED:20251222T194230Z
UID:101129-1769076000-1769081400@www.mhrb.org
SUMMARY:Buildings & Grounds Committee Meeting
DESCRIPTION:
URL:https://www.mhrb.org/event/buildings-grounds-committee-meeting-2/
LOCATION:MHRB Offices\, 1055 E High St\, Springfield\, Ohio\, 45505\, United States
END:VEVENT
BEGIN:VEVENT
DTSTART;VALUE=DATE:20260118
DTEND;VALUE=DATE:20260119
DTSTAMP:20260422T183051
CREATED:20251222T183050Z
LAST-MODIFIED:20251222T183050Z
UID:103613-1768694400-1768780799@www.mhrb.org
SUMMARY:Exceptional People Awards 2026 Nominations Close
DESCRIPTION:Please nominate someone doing exceptional work in Clark\, Greene\, or Madison County here!
URL:https://www.mhrb.org/event/exceptional-people-awards-2026-nominations-close/
LOCATION:OH
END:VEVENT
BEGIN:VEVENT
DTSTART;TZID=America/Detroit:20260112T100000
DTEND;TZID=America/Detroit:20260112T113000
DTSTAMP:20260422T183051
CREATED:20250821T185234Z
LAST-MODIFIED:20251222T194117Z
UID:101127-1768212000-1768217400@www.mhrb.org
SUMMARY:Planning & Evaluating Committee Meeting
DESCRIPTION:
URL:https://www.mhrb.org/event/planning-evaluating-committee-meeting/
LOCATION:MHRB Offices\, 1055 E High St\, Springfield\, Ohio\, 45505\, United States
END:VEVENT
BEGIN:VEVENT
DTSTART;TZID=America/Detroit:20260107T173000
DTEND;TZID=America/Detroit:20260107T180000
DTSTAMP:20260422T183051
CREATED:20251230T204122Z
LAST-MODIFIED:20251230T204122Z
UID:103660-1767807000-1767808800@www.mhrb.org
SUMMARY:The Parent Project
DESCRIPTION:The Parent Project: Helping Parents Navigate Today’s Teens\n📅 Starts: January 7\, 5:30 PM\n📍 Location: Madison County Courthouse \nDiscover practical\, real‑world strategies to support teens. Sessions cover:\n• Truancy\n• Internet/Cell Phones\n• Relationships\n• Defiance \n➡️ Learn tools to help children reach their potential.\n📞 More information: 740‑852‑0760 ext. 1087\n✉️ Email: HENRY.BAIRD@MADISON.OH.GOV
URL:https://www.mhrb.org/event/the-parent-project/
LOCATION:OH
END:VEVENT
BEGIN:VEVENT
DTSTART;TZID=America/Detroit:20251206T083000
DTEND;TZID=America/Detroit:20251206T110000
DTSTAMP:20260422T183051
CREATED:20251121T203207Z
LAST-MODIFIED:20251121T203207Z
UID:102912-1765009800-1765018800@www.mhrb.org
SUMMARY:Rotary Pancake Breakfast
DESCRIPTION:🎄 Rotary Pancake Breakfast – A Holiday Tradition! 🎄 \n📅 Date: Saturday\, December 6\, 2025\n⏰ Time: 8:30 AM – 11:00 AM\n📍 Location: Madison County Senior Center\n280 West High Street\, London\, OH 43140 \n🥞 Enjoy a delicious breakfast featuring pancakes\, eggs\, and sausage with juice\, milk\, or coffee.\n🎅 Special Guest: Santa will be there to take pictures and greet children!\n🎨 Christmas Crafts: Kids can create festive crafts and meet Santa.\n💵 Christmas Cash Raffle: \n\n1st Prize: $300\n2nd Prize: $250\n3rd Prize: $250\nTickets: $5 each or 6 for $25\n\n🎟 Admission:\n$7 – Adults & Youth\nChildren under 2 are free \nBid on great gifts from the Silent Auction and celebrate the season with family and friends!
URL:https://www.mhrb.org/event/rotary-pancake-breakfast/
LOCATION:OH
END:VEVENT
BEGIN:VEVENT
DTSTART;TZID=America/Detroit:20251204T150000
DTEND;TZID=America/Detroit:20251204T170000
DTSTAMP:20260422T183051
CREATED:20251121T201247Z
LAST-MODIFIED:20251121T203444Z
UID:102909-1764860400-1764867600@www.mhrb.org
SUMMARY:Understanding & Building Credit
DESCRIPTION:Understanding & Building Credit\n Thursday\, December 4\n 3:00–5:00 PM\n The Hope Spot\, 529 W. 2nd Street\, Xenia\, OH 45385\nLearn about credit\, billing options\, and how to take control of your financial future. Presented by Chase and AES Ohio\, and hosted by United Way Greater Dayton Area.\nActivities include:\n\n\nGuidance on understanding your bill\nInformation about billing options\nTips for building and improving credit\n\n\nQuestions? Email Rebecca Cantrell at rebeccac@dayton-unitedway.org.
URL:https://www.mhrb.org/event/understanding-building-credit/
LOCATION:Hope Spot – Xenia\, 529 W 2nd St\, Xenia\, OH\, 45385\, United States
END:VEVENT
BEGIN:VEVENT
DTSTART;TZID=America/Detroit:20251120T170000
DTEND;TZID=America/Detroit:20251120T180000
DTSTAMP:20260422T183051
CREATED:20251030T181936Z
LAST-MODIFIED:20251030T181936Z
UID:102484-1763658000-1763661600@www.mhrb.org
SUMMARY:Triple P: Positive Parenting Program - In-Person Group
DESCRIPTION:🌟 Join the Triple P: Positive Parenting Program! 🌟\nParenting is hard—let’s make it easier together! \n📍 In-Person Group\nDate: Thursday\, November 20\nTime: 5:00 PM – 6:00 PM\nLocation: 1143 Daines Ct.\, London\, OH 43140\nTopic: Dealing with Discipline \n💻 Online Parenting Support \n\nWednesday\, November 5 | 6:00 PM – 7:30 PM\nTopic: Bedtime Routines\nWednesday\, November 12 | 5:00 PM – 6:30 PM\nTopic: Dealing with Discipline\n\n✅ Free materials and resources provided\n✅ Parents\, grandparents\, and caregivers of children ages birth–12 years welcome\n✅ Individual sessions available if these times don’t work for you \n📞 Contact: Melinda Moreno\, Triple P Coordinator\nCall or text: 614-324-5768\nEmail: TripleP@actionforchildren.org \n¡Hablamos español! Todas las clases son gratuitas para familias.
URL:https://www.mhrb.org/event/triple-p-positive-parenting-program-in-person-group/
LOCATION:OH
END:VEVENT
BEGIN:VEVENT
DTSTART;TZID=America/Detroit:20251120T160000
DTEND;TZID=America/Detroit:20251120T180000
DTSTAMP:20260422T183051
CREATED:20251016T184257Z
LAST-MODIFIED:20251016T184257Z
UID:102429-1763654400-1763661600@www.mhrb.org
SUMMARY:Evicting the American Dream
DESCRIPTION:🎬 Evicting the American Dream\nExplore the realities of unjust evictions and housing instability through film\, art\, and conversation. \n📅 Date: Thursday\, November 20\, 2025\n🕓 Time: 4:00 PM – 6:00 PM\n📍 Location: Clark County Public Library\, Springfield\, OH \n🎥 Activities Include: \n\nFilm Screening\nPanel Discussion\nArt Display\n🍪 Light refreshments provided by Kore4 Job Club\n\n📩 Questions? Contact Brooke Wagner at bwagner@clarkcountyohio.gov \nPresented in collaboration with Clark County Reentry\, Clark County Ohio\, Clark County Public Library\, Springfield Museum of Art\, and Springfield City School District.
URL:https://www.mhrb.org/event/evicting-the-american-dream/
LOCATION:Clark County Public Library\, 201 S. Fountain Ave\, Springfield\, 45506\, United States
END:VEVENT
BEGIN:VEVENT
DTSTART;TZID=America/Detroit:20251120T160000
DTEND;TZID=America/Detroit:20251120T170000
DTSTAMP:20260422T183051
CREATED:20251119T181509Z
LAST-MODIFIED:20251119T181509Z
UID:102780-1763654400-1763658000@www.mhrb.org
SUMMARY:Executive and Financial Board Meeting
DESCRIPTION:Executive and Financial Board Meeting
URL:https://www.mhrb.org/event/executive-and-financial-board-meeting/
LOCATION:MHRB Offices\, 1055 E High St\, Springfield\, Ohio\, 45505\, United States
END:VEVENT
BEGIN:VEVENT
DTSTART;TZID=America/Detroit:20251112T170000
DTEND;TZID=America/Detroit:20251112T183000
DTSTAMP:20260422T183051
CREATED:20251030T181825Z
LAST-MODIFIED:20251030T181825Z
UID:102482-1762966800-1762972200@www.mhrb.org
SUMMARY:Triple P: Positive Parenting Program - Online Support
DESCRIPTION:🌟 Join the Triple P: Positive Parenting Program! 🌟\nParenting is hard—let’s make it easier together! \n📍 In-Person Group\nDate: Thursday\, November 20\nTime: 5:00 PM – 6:00 PM\nLocation: 1143 Daines Ct.\, London\, OH 43140\nTopic: Dealing with Discipline \n💻 Online Parenting Support \n\nWednesday\, November 5 | 6:00 PM – 7:30 PM\nTopic: Bedtime Routines\nWednesday\, November 12 | 5:00 PM – 6:30 PM\nTopic: Dealing with Discipline\n\n✅ Free materials and resources provided\n✅ Parents\, grandparents\, and caregivers of children ages birth–12 years welcome\n✅ Individual sessions available if these times don’t work for you \n📞 Contact: Melinda Moreno\, Triple P Coordinator\nCall or text: 614-324-5768\nEmail: TripleP@actionforchildren.org \n¡Hablamos español! Todas las clases son gratuitas para familias.
URL:https://www.mhrb.org/event/triple-p-positive-parenting-program-online-support-2/
LOCATION:OH
END:VEVENT
BEGIN:VEVENT
DTSTART;TZID=America/Detroit:20251105T180000
DTEND;TZID=America/Detroit:20251105T193000
DTSTAMP:20260422T183051
CREATED:20251030T181743Z
LAST-MODIFIED:20251030T181743Z
UID:102480-1762365600-1762371000@www.mhrb.org
SUMMARY:Triple P: Positive Parenting Program: Online Support
DESCRIPTION:🌟 Join the Triple P: Positive Parenting Program! 🌟\nParenting is hard—let’s make it easier together! \n📍 In-Person Group\nDate: Thursday\, November 20\nTime: 5:00 PM – 6:00 PM\nLocation: 1143 Daines Ct.\, London\, OH 43140\nTopic: Dealing with Discipline \n💻 Online Parenting Support \n\nWednesday\, November 5 | 6:00 PM – 7:30 PM\nTopic: Bedtime Routines\nWednesday\, November 12 | 5:00 PM – 6:30 PM\nTopic: Dealing with Discipline\n\n✅ Free materials and resources provided\n✅ Parents\, grandparents\, and caregivers of children ages birth–12 years welcome\n✅ Individual sessions available if these times don’t work for you \n📞 Contact: Melinda Moreno\, Triple P Coordinator\nCall or text: 614-324-5768\nEmail: TripleP@actionforchildren.org \n¡Hablamos español! Todas las clases son gratuitas para familias.
URL:https://www.mhrb.org/event/triple-p-positive-parenting-program-online-support/
LOCATION:OH
END:VEVENT
BEGIN:VEVENT
DTSTART;TZID=America/Detroit:20251105T100000
DTEND;TZID=America/Detroit:20251105T120000
DTSTAMP:20260422T183051
CREATED:20250821T184241Z
LAST-MODIFIED:20250821T184241Z
UID:101121-1762336800-1762344000@www.mhrb.org
SUMMARY:Providers Brunch
DESCRIPTION:More information to follow.
URL:https://www.mhrb.org/event/providers-brunch/
LOCATION:OH
END:VEVENT
BEGIN:VEVENT
DTSTART;TZID=America/Detroit:20251029T090000
DTEND;TZID=America/Detroit:20251029T160000
DTSTAMP:20260422T183051
CREATED:20251016T184627Z
LAST-MODIFIED:20251016T184627Z
UID:102433-1761728400-1761753600@www.mhrb.org
SUMMARY:Emotional CPR Training
DESCRIPTION:Ohio Department of Behavioral Health & The P.E.E.R. Center are offering a free training: Emotional CPR (eCPR)\n\n\n \n\n\neCPR is an educational program developed by the recovery movement designed to teach people to assist others through an emotional crisis with three simple steps:\n\n\nC = Connecting\n\n\nP = emPowering\n\n\nR = Revitalizing\n\n\n \n\n\nThe Connecting process of eCPR involves deepening listening skills\, practicing presence\, and creating a sense of safety for the person experiencing a crisis. The emPowering process helps people better understand how to feel empowered themselves as well as to assist others to feel more hopeful and engaged in life. In the Revitalizing process\, people re-engage in relationships with their loved ones or their support system\, and they resume or begin routines that support health and wellness which reinforces the person’s sense of mastery and accomplishment\, further energizing the healing process.\n\n\n \n\n\nhttps://www.eventbrite.com/e/two-day-ecpr-certification-training-1029-1030-tickets-1736199602749?aff=oddtdtcreato
URL:https://www.mhrb.org/event/emotional-cpr-training/
LOCATION:OH
END:VEVENT
END:VCALENDAR