BEGIN:VCALENDAR
VERSION:2.0
PRODID:-//Mental Health Recovery Board - ECPv6.15.20//NONSGML v1.0//EN
CALSCALE:GREGORIAN
METHOD:PUBLISH
X-WR-CALNAME:Mental Health Recovery Board
X-ORIGINAL-URL:https://www.mhrb.org
X-WR-CALDESC:Events for Mental Health Recovery Board
REFRESH-INTERVAL;VALUE=DURATION:PT1H
X-Robots-Tag:noindex
X-PUBLISHED-TTL:PT1H
BEGIN:VTIMEZONE
TZID:America/Detroit
BEGIN:DAYLIGHT
TZOFFSETFROM:-0500
TZOFFSETTO:-0400
TZNAME:EDT
DTSTART:20240310T070000
END:DAYLIGHT
BEGIN:STANDARD
TZOFFSETFROM:-0400
TZOFFSETTO:-0500
TZNAME:EST
DTSTART:20241103T060000
END:STANDARD
BEGIN:DAYLIGHT
TZOFFSETFROM:-0500
TZOFFSETTO:-0400
TZNAME:EDT
DTSTART:20250309T070000
END:DAYLIGHT
BEGIN:STANDARD
TZOFFSETFROM:-0400
TZOFFSETTO:-0500
TZNAME:EST
DTSTART:20251102T060000
END:STANDARD
BEGIN:DAYLIGHT
TZOFFSETFROM:-0500
TZOFFSETTO:-0400
TZNAME:EDT
DTSTART:20260308T070000
END:DAYLIGHT
BEGIN:STANDARD
TZOFFSETFROM:-0400
TZOFFSETTO:-0500
TZNAME:EST
DTSTART:20261101T060000
END:STANDARD
END:VTIMEZONE
BEGIN:VEVENT
DTSTART;TZID=America/Detroit:20250722T093000
DTEND;TZID=America/Detroit:20250722T143000
DTSTAMP:20260423T075536
CREATED:20250711T155441Z
LAST-MODIFIED:20250711T155441Z
UID:100060-1753176600-1753194600@www.mhrb.org
SUMMARY:"No Wrong Door" Event!
DESCRIPTION:???? Join the “No Wrong Door” Event! ???? \nMark your calendars for July 22nd\, 2025 and head to London City Hall from 9:30 AM to 2:30 PM for an essential training event. Learn about the resources available in the county to streamline information about supports and services\, ensuring every client receives the help they need. \n???? Why Attend?\nGain valuable education on county resources.\nEnhance client satisfaction and organizational effectiveness. \n???? Details:\nDate: July 22nd\, 2025\nTime: 9:30 AM – 2:30 PM (Doors open at 9:00 AM)\nLocation: London City Hall\, 29 S Walnut St\, London\, OH 43140\nRegistration Fee: $10 \n???? Register Now:\nScan the QR code in the image or visit www.uwccmc.org/NoWrongDoor.\nFor more information\, contact Deetra.Huntington@Madison.Oh.Gov. \nLet’s work together to ensure no one falls through the cracks! ???? \n#NoWrongDoor #CommunitySupport #LondonCityHall #TrainingEvent
URL:https://www.mhrb.org/event/no-wrong-door-event/
LOCATION:London City Hall\, 29 S Walnut St\, London\, OH\, 45140
END:VEVENT
BEGIN:VEVENT
DTSTART;TZID=America/Detroit:20250719T080000
DTEND;TZID=America/Detroit:20250719T180000
DTSTAMP:20260423T075536
CREATED:20250709T151842Z
LAST-MODIFIED:20250709T151842Z
UID:99966-1752912000-1752948000@www.mhrb.org
SUMMARY:Cycling Tour to Support Veteran Suicide Prevention
DESCRIPTION:???? Veteran Suicide Prevention Cycling Tour ???? \nJoin in on Saturday\, July 19th for an inspiring one-day ride to support veteran suicide prevention! Choose from 10\, 30\, or 60 miles along the scenic trails of Greene County. ???? \n???? Date: July 19\, 2025\n???? Time: 8:00 AM – 6:00 PM\n???? Location: Fairground Recreation Center\, Greene County \nHighlights: \n\nRide at your own pace on beautiful trails\nSupported rest stops and refreshments\nGreene County Volunteer Trail Sentinels available for assistance\nRegistration: $50 per rider (includes commemorative t-shirt if registered by June 6th)\n\nProceeds benefit the Greene County Suicide Prevention Coalition Veteran Subcommittee. Let’s ride together to make a difference! ????
URL:https://www.mhrb.org/event/cycling-tour-to-support-veteran-suicide-prevention/
LOCATION:Fairground Recreation Center\, Greene County\, 210 Fairground Rd\, Xenia\, OH\, 45385
END:VEVENT
BEGIN:VEVENT
DTSTART;TZID=America/Detroit:20250718T143000
DTEND;TZID=America/Detroit:20250718T160000
DTSTAMP:20260423T075536
CREATED:20250709T151206Z
LAST-MODIFIED:20250709T151206Z
UID:99964-1752849000-1752854400@www.mhrb.org
SUMMARY:Teen Mental Health First Aid Training Day 3
DESCRIPTION:
URL:https://www.mhrb.org/event/teen-mental-health-first-aid-training-day-3/
LOCATION:First Baptist Church\, 638 S Fountain Ave\, Springfield\, Ohio
END:VEVENT
BEGIN:VEVENT
DTSTART;TZID=America/Detroit:20250716T160000
DTEND;TZID=America/Detroit:20250716T190000
DTSTAMP:20260423T075536
CREATED:20250708T123929Z
LAST-MODIFIED:20250708T124040Z
UID:99866-1752681600-1752692400@www.mhrb.org
SUMMARY:Bridging the Community
DESCRIPTION:???? Bridging the Community! ???? \nJoin us for an exciting outreach event on 16th July 2025 from 4:00 PM to 7:00 PM at 1850 N Fairfield Road\, Beavercreek\, OH 45432. \nWhat’s Happening? \n????Touch-a-Truck: Explore Police\, Fire\, and EMS Vehicles\n⛑Local Support & Services\n????Real Talk: Drug Facts You Should Know\n????Free Harm Reduction Kits\n????Get Connected: Treatment Options That Work \nDon’t miss out on this fantastic opportunity to connect with your community and learn about valuable resources!
URL:https://www.mhrb.org/event/bridging-the-community/
LOCATION:Be Hope Church\, 1850 N Fairfield Road\, Beavercreek\, OH\, 45432\, United States
END:VEVENT
BEGIN:VEVENT
DTSTART;TZID=America/Detroit:20250715T143000
DTEND;TZID=America/Detroit:20250715T160000
DTSTAMP:20260423T075536
CREATED:20250709T151128Z
LAST-MODIFIED:20250709T151128Z
UID:99962-1752589800-1752595200@www.mhrb.org
SUMMARY:Teen Mental Health First Aid Training Day 2
DESCRIPTION:
URL:https://www.mhrb.org/event/teen-mental-health-first-aid-training-day-2/
LOCATION:First Baptist Church\, 638 S Fountain Ave\, Springfield\, Ohio
END:VEVENT
BEGIN:VEVENT
DTSTART;TZID=America/Detroit:20250714T143000
DTEND;TZID=America/Detroit:20250714T160000
DTSTAMP:20260423T075536
CREATED:20250709T151034Z
LAST-MODIFIED:20250709T151034Z
UID:99959-1752503400-1752508800@www.mhrb.org
SUMMARY:Teen Mental Health First Aid Training Day 1
DESCRIPTION:
URL:https://www.mhrb.org/event/teen-mental-health-first-aid-training-day-1/
LOCATION:First Baptist Church\, 638 S Fountain Ave\, Springfield\, Ohio
END:VEVENT
BEGIN:VEVENT
DTSTART;TZID=America/Detroit:20250712T130000
DTEND;TZID=America/Detroit:20250712T130000
DTSTAMP:20260423T075536
CREATED:20250709T150814Z
LAST-MODIFIED:20250709T150814Z
UID:99955-1752325200-1752325200@www.mhrb.org
SUMMARY:NAMIWalks Rally
DESCRIPTION:
URL:https://www.mhrb.org/event/namiwalks-rally/
LOCATION:Yellow Springs Brewery\, 305 N Walnut St\, Yellow Springs\, Ohio\, 45387
END:VEVENT
END:VCALENDAR